BEGIN:VCALENDAR
VERSION:2.0
PRODID:-//ChamberMaster//Event Calendar 2.0//EN
METHOD:PUBLISH
X-PUBLISHED-TTL:P3D
REFRESH-INTERVAL:P3D
CALSCALE:GREGORIAN
BEGIN:VEVENT
DTSTART:20200408T163000Z
DTEND:20200408T180000Z
X-MICROSOFT-CDO-ALLDAYEVENT:FALSE
SUMMARY:ONLINE\; April Lunch & Learn
DESCRIPTION:Each month Grimes Chamber & Economic Development gives its members the opportunity to meet for networking\, lunch and to learn about items of interest regarding Grimes and the Metro area. This months topic is going to be a little different due to the COVID-19 pandemic. We want to Lunch & Learn to be an opportunity for our members to get together and share with one another as well as with the Chamber perhaps what you are struggling with\, what would be helpful informaiton\, and perhaps talk through some positives happening amongst the difficult times. Please join us from 11:30-12:30 via ZOOM. The link is below: \n\n\n\nJoin Zoom Meeting\n\nhttps://zoom.us/j/417783071?pwd=eU1Icm52c2xNNFRqVHNUT3FSek94dz09\n\n\n\nMeeting ID: 417 783 071\n\nPassword: 701651\n\n\n\nOne tap mobile\n\n+19294362866\,\,417783071# US (New York)\n\n+13126266799\,\,417783071# US (Chicago)
X-ALT-DESC;FMTTYPE=text/html:Each month Grimes Chamber &amp\; Economic Development gives its members the opportunity to meet for networking\, lunch and to learn about items of interest regarding Grimes and the Metro area. This months topic is going to be a little different due to the COVID-19 pandemic. We want to Lunch &amp\; Learn to be an opportunity for our members to get together and share with one another as well as with the Chamber perhaps what you are struggling with\, what would be helpful informaiton\, and perhaps talk through some positives happening amongst the difficult times. Please join us from 11:30-12:30 via ZOOM. The link is below:&nbsp\;<br />\n<br />\nJoin Zoom Meeting<br />\nhttps://zoom.us/j/417783071?pwd=eU1Icm52c2xNNFRqVHNUT3FSek94dz09<br />\n<br />\nMeeting ID: 417 783 071<br />\nPassword: 701651<br />\n<br />\nOne tap mobile<br />\n+19294362866\,\,417783071# US (New York)<br />\n+13126266799\,\,417783071# US (Chicago)
LOCATION:Join Zoom Meeting https://zoom.us/j/417783071?pwd=eU1Icm52c2xNNFRqVHNUT3FSek94dz09 Meeting ID: 417 783 071 Password: 701651 One tap mobile +19294362866\,\,417783071# US (New York) +13126266799\,\,417783071# US (Chicago)
UID:e.2636.1527
SEQUENCE:3
DTSTAMP:20260423T084037Z
URL:https://business.grimesiowa.com/events/details/online-april-lunch-learn-1527
END:VEVENT

END:VCALENDAR
