BEGIN:VCALENDAR
VERSION:2.0
PRODID:-//ChamberMaster//Event Calendar 2.0//EN
METHOD:PUBLISH
X-PUBLISHED-TTL:P3D
REFRESH-INTERVAL:P3D
CALSCALE:GREGORIAN
BEGIN:VEVENT
DTSTART:20200410T130000Z
DTEND:20200410T140000Z
X-MICROSOFT-CDO-ALLDAYEVENT:FALSE
SUMMARY:ONLINE\; Book Club Breakfast
DESCRIPTION:Breakfast Book Club gathering to talk through the first  reading "assignment" from Libby Spears book "What's Your Plan Be?" Working on naming it\, claiming\, it and living it in 2020.  We will be gathering online from the comfort of our couches for this months Book Club. Join us via the zoom link below. (Pages were 47-72)
X-ALT-DESC;FMTTYPE=text/html:Breakfast Book Club gathering to talk through the first&nbsp\; reading &quot\;assignment&quot\; from Libby Spears book &quot\;What&#39\;s Your Plan Be?&quot\; Working on naming it\, claiming\, it and living it in 2020.&nbsp\; We will be gathering online from the comfort of our couches for this months Book Club. Join us via the zoom link below. (Pages were 47-72)&nbsp\;
LOCATION:Via ZOOM\; Brian Buethe is inviting you to a scheduled Zoom meeting. Join Zoom Meeting https://zoom.us/j/321522276?pwd=Y2YxOUx6elRpNEJRQnAxZVdrUlZ0UT09 Meeting ID: 321 522 276 Password: 029431 One tap mobile +13126266799\,\,321522276# US (Chicago) +19294362866\,\,321522276# US (New York) Meeting ID: 321 522 276 Password: 029431 Find your local number: https://zoom.us/u/abemOfmpaZ
UID:e.2636.1489
SEQUENCE:3
DTSTAMP:20260423T084306Z
URL:https://business.grimesiowa.com/events/details/online-book-club-breakfast-1489
END:VEVENT

END:VCALENDAR
