BEGIN:VCALENDAR
VERSION:2.0
PRODID:-//ChamberMaster//Event Calendar 2.0//EN
METHOD:PUBLISH
X-PUBLISHED-TTL:P3D
REFRESH-INTERVAL:P3D
CALSCALE:GREGORIAN
BEGIN:VEVENT
DTSTART:20200415T150000Z
DTEND:20200415T160000Z
X-MICROSOFT-CDO-ALLDAYEVENT:FALSE
SUMMARY:ONLINE\; Get to Know GCED
DESCRIPTION:Get to Know GCED is held from 10-11 AM in the Grimes Chamber & Economic Development Board Room. (404 SE 2nd Street\; Suite 200)  Who should attend? New members\, new representatives\, future members\, longtime members. Enjoy coffee\, meet other members/staff\, and learn more about accessing your benefits in a small group\, informal gathering.
X-ALT-DESC;FMTTYPE=text/html:<span style="color: rgb(68\, 68\, 68)\; font-family: Arial\, Helvetica\, sans-serif\; font-size: 14px\; background-color: rgb(255\, 255\, 255)\;">Get to Know GCED is held from 10-11 AM in the Grimes Chamber &amp\; Economic Development Board Room. (404 SE 2nd Street\; Suite 200)&nbsp\;&nbsp\;</span><span style="color: rgb(68\, 68\, 68)\; font-family: Arial\, Helvetica\, sans-serif\; font-size: 14px\; background-color: rgb(255\, 255\, 255)\;">Who should attend? New members\, new representatives\, future members\, longtime members.&nbsp\;</span><span style="color: rgb(68\, 68\, 68)\; font-family: Arial\, Helvetica\, sans-serif\; font-size: 14px\; background-color: rgb(255\, 255\, 255)\;">Enjoy coffee\, meet other members/staff\, and learn more about accessing your benefits in a small group\, informal gathering.&nbsp\;</span>
LOCATION:Via ZOOM Meeting\; Join Zoom Meeting https://zoom.us/j/267009326?pwd=ZkVXZC9CVzVacE52UzhRRmdCZ3RQZz09 Meeting ID: 267 009 326 Password: 104164 One tap mobile +13126266799\,\,267009326# US (Chicago) Find your local number: https://zoom.us/u/abemOfmpaZ
UID:e.2636.1503
SEQUENCE:3
DTSTAMP:20260423T084011Z
URL:https://business.grimesiowa.com/events/details/online-get-to-know-gced-1503
END:VEVENT

END:VCALENDAR
