BEGIN:VCALENDAR
VERSION:2.0
PRODID:-//ChamberMaster//Event Calendar 2.0//EN
METHOD:PUBLISH
X-PUBLISHED-TTL:P3D
REFRESH-INTERVAL:P3D
CALSCALE:GREGORIAN
BEGIN:VEVENT
DTSTART:20200421T213000Z
DTEND:20200421T220000Z
X-MICROSOFT-CDO-ALLDAYEVENT:FALSE
SUMMARY:ONLINE\; YP Grimes Happy Hour
DESCRIPTION:This is an opportunity to gather via ZOOM to have an online happy hour and talk with one another on how we are all getting along during this unpredictable time. Let's talk about what is getting us through the day\, working from home tips and tricks\, and lets focus on the positives in our day!
X-ALT-DESC;FMTTYPE=text/html:This is an opportunity to gather via ZOOM to have an online happy hour and talk with one another on how we are all getting along during this unpredictable time. Let&#39\;s talk about what is getting us through the day\, working from home tips and tricks\, and lets focus on the positives in our day!&nbsp\;
LOCATION:Via Zoom\; Join Zoom Meeting https://zoom.us/j/651944010?pwd=b3BrRUNVVVhEcndnNG1rM1NoSTBDQT09 Meeting ID: 651 944 010 Password: 898781 One tap mobile +13126266799\,\,651944010# US (Chicago) Meeting ID: 651 944 010 Password: 898781 Find your local number: https://zoom.us/u/abemOfmpaZ
UID:e.2636.1490
SEQUENCE:3
DTSTAMP:20260423T084226Z
URL:https://business.grimesiowa.com/events/details/online-yp-grimes-happy-hour-1490
END:VEVENT

END:VCALENDAR
