BEGIN:VCALENDAR
VERSION:2.0
PRODID:-//ChamberMaster//Event Calendar 2.0//EN
METHOD:PUBLISH
X-PUBLISHED-TTL:P3D
REFRESH-INTERVAL:P3D
CALSCALE:GREGORIAN
BEGIN:VEVENT
DTSTART:20180427T123000Z
DTEND:20180427T133000Z
X-MICROSOFT-CDO-ALLDAYEVENT:FALSE
SUMMARY:Percolate A.M. April 2018
DESCRIPTION:You are invited to the  morning networking event\, Percolate A.M. This event will allow for you to network\, grab a cup of coffee\, and start your Friday off right! This month we will hear from Hubbell Realty Company on the following topics: \n\n*Grimes Distribution Center   overview and future plans\n\n*Update on the Northwest suburban commercial real estate sub-market (focus on the industrial sub-market)\n\n*Overview of Hubbell's Meadowlark Place Apartments\n\n*Update on the Northwest suburban apartment market\n\n This event will be hosted by VisionBank.
X-ALT-DESC;FMTTYPE=text/html:<span style="font-family: sans-serif\, Arial\, Verdana\, &quot\;Trebuchet MS&quot\;\; font-size: 13px\; background-color: rgb(255\, 255\, 255)\;">You are invited to the &nbsp\;morning networking event\, Percolate A.M. This event will allow for you to network\, grab a cup of coffee\, and start your Friday off right! This month we will hear from Hubbell Realty Company on the following topics:&nbsp\;<br />\n*</span>Grimes Distribution Center &ndash\; overview and future plans<br />\n*Update on the Northwest suburban commercial real estate sub-market (focus on the industrial sub-market)<br />\n*Overview of Hubbell&rsquo\;s Meadowlark Place Apartments<br />\n*Update on the Northwest suburban apartment market<br />\n<span style="color: rgb(51\, 51\, 51)\; font-family: sans-serif\, Arial\, Verdana\, &quot\;Trebuchet MS&quot\;\; font-size: 13px\; background-color: rgb(255\, 255\, 255)\;">&nbsp\;This event will be hosted by&nbsp\;</span><strong style="color: rgb(51\, 51\, 51)\; font-family: sans-serif\, Arial\, Verdana\, &quot\;Trebuchet MS&quot\;\; font-size: 13px\;">VisionBank<span style="background-color: rgb(255\, 255\, 255)\;">.&nbsp\;</span></strong><br />\n&nbsp\;
LOCATION:VisionBank 925 SE Gateway Dr Grimes\, IA 50111
UID:e.2636.1286
SEQUENCE:3
DTSTAMP:20260424T160521Z
URL:https://business.grimesiowa.com/events/details/percolate-a-m-april-2018-1286
END:VEVENT

END:VCALENDAR
