BEGIN:VCALENDAR
VERSION:2.0
PRODID:-//ChamberMaster//Event Calendar 2.0//EN
METHOD:PUBLISH
X-PUBLISHED-TTL:P3D
REFRESH-INTERVAL:P3D
CALSCALE:GREGORIAN
BEGIN:VEVENT
DTSTART:20180831T123000Z
DTEND:20180831T133000Z
X-MICROSOFT-CDO-ALLDAYEVENT:FALSE
SUMMARY:Percolate A.M August 2018
DESCRIPTION:You are invited to the  morning networking event\, Percolate A.M. This event will allow for you to network\, grab a cup of coffee\, and start your Friday off right! This month we will hear from Vero Chiropractic on the following topics: \n\n-What they are all about\n\n-How to better yourself\n\n This event will be hosted by Vero Chiropractic
X-ALT-DESC;FMTTYPE=text/html:You are invited to the &nbsp\;morning networking event\, Percolate A.M. This event will allow for you to network\, grab a cup of coffee\, and start your Friday off right! This month we will hear from Vero Chiropractic on the following topics:&nbsp\;<br />\n-What they are all about<br />\n-How to better yourself<br />\n&nbsp\;This event will be hosted by&nbsp\;<strong>Vero Chiropractic</strong>
LOCATION:5525 Mills Civic Pkwy Suite 120 West Des Moines\, IA 50266
UID:e.2636.1305
SEQUENCE:3
DTSTAMP:20260424T103140Z
URL:https://business.grimesiowa.com/events/details/percolate-a-m-august-2018-1305
END:VEVENT

END:VCALENDAR
