BEGIN:VCALENDAR
VERSION:2.0
PRODID:-//ChamberMaster//Event Calendar 2.0//EN
METHOD:PUBLISH
X-PUBLISHED-TTL:P3D
REFRESH-INTERVAL:P3D
CALSCALE:GREGORIAN
BEGIN:VEVENT
DTSTART:20171027T123000Z
DTEND:20171027T133000Z
X-MICROSOFT-CDO-ALLDAYEVENT:FALSE
SUMMARY:Percolate A.M. featuring Septagon Construction at Kennybrook Village
DESCRIPTION:Please join us for the next installment of Percolate A.M.\, a business networking and learning event. \n\n \nPlease join us and our wonderful hosts (Kennybrook Village) at the Friday\, October 27th event\, which will officially begin at 7:30 a.m. and will last approximately one hour.\n\n \n\nThis months presentation will be from long time members of Grimes Chamber & Economic Development and Grimes business...Septagon Construction.  Septagon has had a presence in Grimes for 25 years and we look forward to learning a bit about their history\, as well as what projects they are currently engaged with.\n\n\n\nThee is no cost to attend the event\, but we do ask for a courtesy RSVP to assist with the planning aspect.
X-ALT-DESC;FMTTYPE=text/html:Please join us for the next installment of <strong>Percolate A.M.</strong>\, a business networking and learning event.&nbsp\;<br />\n&nbsp\;\n<div>Please join us and our wonderful hosts (Kennybrook Village) at the Friday\, October 27th event\, which will officially begin at 7:30 a.m. and will last approximately one hour.</div>\n\n<div>&nbsp\;</div>\n\n<div>This months presentation will be from long time members of Grimes Chamber &amp\; Economic Development and Grimes business...<a href="http://www.septagon.com/">Septagon Construction</a>.&nbsp\; Septagon has had a presence in Grimes for 25 years and we look forward to learning a bit about their history\, as well as what projects they are currently engaged with.<br />\n<br />\nThee is no cost to attend the event\, but we do ask for a courtesy RSVP to assist with the planning aspect.</div>\n
LOCATION:Kennybrook Village 200 SW Brookside Drive Grimes\, IA 50111
UID:e.2636.237
SEQUENCE:3
DTSTAMP:20260425T005334Z
URL:https://business.grimesiowa.com/events/details/percolate-a-m-featuring-septagon-construction-at-kennybrook-village-237
END:VEVENT

END:VCALENDAR
