BEGIN:VCALENDAR
VERSION:2.0
PRODID:-//ChamberMaster//Event Calendar 2.0//EN
METHOD:PUBLISH
X-PUBLISHED-TTL:P3D
REFRESH-INTERVAL:P3D
CALSCALE:GREGORIAN
BEGIN:VEVENT
DTSTART:20200218T133000Z
DTEND:20200218T150000Z
X-MICROSOFT-CDO-ALLDAYEVENT:FALSE
SUMMARY:Percolate A.M February 2020 - Koester
DESCRIPTION:Join us for our Percolate A.M hosted by Koester Construction. The speakers will be two local improv comedians\, Laura Merz and Charity Coons. They are both a part of local improv troupe\, Kitten Bomb Comedy   www.kittenbombcomedy.com . It will be a fun and interactive presentation demonstrating the importance of creative thinking\, problem solving\, and idea generation. Coffee and snacks will be provided.\n\nSee you there!
X-ALT-DESC;FMTTYPE=text/html:Join us for our Percolate A.M hosted by Koester Construction. The speakers will be two local improv comedians\, Laura Merz and Charity Coons. They are both a part of local improv troupe\, Kitten Bomb Comedy <span style="font-family:wingdings\;">&agrave\;</span> <a href="http://www.kittenbombcomedy.com">www.kittenbombcomedy.com</a> . It will be a fun and interactive presentation demonstrating the importance of creative thinking\, problem solving\, and idea generation. Coffee and snacks will be provided.<br />\nSee you there!
LOCATION:Koester Construction Company 3050 SE Enterprise Dr. Ste A Grimes\, IA 50111
UID:e.2636.1544
SEQUENCE:3
DTSTAMP:20260423T114526Z
URL:https://business.grimesiowa.com/events/details/percolate-a-m-february-2020-koester-1544
END:VEVENT

END:VCALENDAR
