BEGIN:VCALENDAR
VERSION:2.0
PRODID:-//ChamberMaster//Event Calendar 2.0//EN
METHOD:PUBLISH
X-PUBLISHED-TTL:P3D
REFRESH-INTERVAL:P3D
CALSCALE:GREGORIAN
BEGIN:VEVENT
DTSTART:20180119T133000Z
DTEND:20180119T143000Z
X-MICROSOFT-CDO-ALLDAYEVENT:FALSE
SUMMARY:Percolate A.M. January 2018
DESCRIPTION:You are invited to the  morning networking event\, Percolate A.M. Please join us at the Grimes Chamber & Economic Development Board Room as we hear from Joe Murphy and Andrea Woodard with the Greater Des Moines Partnership on the goals and vision of where the next political session will take us!
X-ALT-DESC;FMTTYPE=text/html:<span style="color: rgb(51\, 51\, 51)\; font-family: sans-serif\, Arial\, Verdana\, &quot\;Trebuchet MS&quot\;\; font-size: 13px\; background-color: rgb(255\, 255\, 255)\;">You are invited to the &nbsp\;morning networking event\, Percolate A.M.</span><span style="color: rgb(51\, 51\, 51)\; font-family: sans-serif\, Arial\, Verdana\, &quot\;Trebuchet MS&quot\;\; font-size: 13px\; background-color: rgb(255\, 255\, 255)\;">&nbsp\;Please join us at&nbsp\;the Grimes Chamber &amp\; Economic Development Board Room&nbsp\;</span><span style="color: rgb(51\, 51\, 51)\; font-family: sans-serif\, Arial\, Verdana\, &quot\;Trebuchet MS&quot\;\; font-size: 13px\; background-color: rgb(255\, 255\, 255)\;">as we hear from Joe Murphy and Andrea Woodard with the Greater Des Moines Partnership on the goals and vision of where the next political session will take us!&nbsp\;</span>
LOCATION:Grimes Chamber & Economic Development Board Room 404 SE 2nd Street\; Suite 200 Grimes\, IA 50111
UID:e.2636.1268
SEQUENCE:3
DTSTAMP:20260424T220226Z
URL:https://business.grimesiowa.com/events/details/percolate-a-m-january-2018-1268
END:VEVENT

END:VCALENDAR
