BEGIN:VCALENDAR
VERSION:2.0
PRODID:-//ChamberMaster//Event Calendar 2.0//EN
METHOD:PUBLISH
X-PUBLISHED-TTL:P3D
REFRESH-INTERVAL:P3D
CALSCALE:GREGORIAN
BEGIN:VEVENT
DTSTART:20180330T123000Z
DTEND:20180330T133000Z
X-MICROSOFT-CDO-ALLDAYEVENT:FALSE
SUMMARY:Percolate A.M. March 2018
DESCRIPTION:Join us at Cintas\, 1300 SE Gateway Dr #102\, Grimes\, IA 50111\, on Friday March 30th and hear from City Council member Eric Johansen on Civil Discourse. Civil Discourse is engagement in discourse (conversation) intended to enhance understanding. Eric will be sharing insights and points on how to have those political conversations with others and being able to leave the conversation with a little bit more of an understanding.
X-ALT-DESC;FMTTYPE=text/html:<span style="color:#403F42\;"><span style="font-family:arial\,sans-serif\;"><span style="font-size:10.5pt\;">Join us at Cintas\, </span></span></span><span style="color:#222222\;"><span style="font-family:arial\,sans-serif\;"><span style="font-size:9.0pt\;">1300 SE Gateway Dr #102\, Grimes\, IA 50111</span></span></span><span style="color:#222222\;"><span style="font-family:arial\,sans-serif\;"><span style="font-size:10.5pt\;">\, on Friday March 30th and hear from City Council member Eric Johansen on Civil Discourse. Civil Discourse is engagement in&nbsp\;discourse&nbsp\;(conversation) intended to enhance understanding. Eric will be sharing insights and points on how to have those political conversations with others and being able to leave the conversation with a little bit more of an understanding.</span></span></span><br />\n<span style="bottom: auto\; box-sizing: content-box\; clear: none\; color: rgb(51\, 51\, 51)\; content: normal\; direction: inherit\; empty-cells: show\; font-variant-numeric: inherit\; font-variant-east-asian: inherit\; font-stretch: inherit\; font-size: 13px\; font-family: sans-serif\, Arial\, Verdana\, &quot\;Trebuchet MS&quot\;\; left: auto\; line-height: inherit\; margin: 0px\; max-height: none\; max-width: none\; min-height: initial\; min-width: initial\; opacity: 1\; outline-offset: 0px\; overflow: visible\; padding: 0px\; position: static\; resize: none\; right: auto\; table-layout: auto\; text-overflow: clip\; top: auto\; vertical-align: baseline\; visibility: inherit\; word-break: inherit\; word-wrap: inherit\; z-index: auto\; background: none rgb(255\, 255\, 255)\; border: none\; border-collapse: separate\; border-radius: 0px\; height: auto\; width: auto\; box-shadow: none\;">&nbsp\;</span>
LOCATION:CINTAS 1300 SE Gateway Dr Grimes\, IA 50111
UID:e.2636.1277
SEQUENCE:3
DTSTAMP:20260424T173406Z
URL:https://business.grimesiowa.com/events/details/percolate-a-m-march-2018-1277
END:VEVENT

END:VCALENDAR
