BEGIN:VCALENDAR
VERSION:2.0
PRODID:-//ChamberMaster//Event Calendar 2.0//EN
METHOD:PUBLISH
X-PUBLISHED-TTL:P3D
REFRESH-INTERVAL:P3D
CALSCALE:GREGORIAN
BEGIN:VEVENT
DTSTART:20200221T203000Z
DTEND:20200221T223000Z
X-MICROSOFT-CDO-ALLDAYEVENT:FALSE
SUMMARY:Political Open Forum
DESCRIPTION:Join us for a Political Open Forum featuring Senator Brad Zaun & Representative Karin Derry. Enjoy this opportunity to meet your local representatives! Come with your questions.
X-ALT-DESC;FMTTYPE=text/html:Join us for a Political Open Forum featuring Senator Brad Zaun &amp\; Representative Karin Derry. Enjoy this opportunity to meet your local representatives! Come with your questions.
LOCATION:Grimes Community Complex - Room 402 410 SE Main Street Grimes\, IA 50111
UID:e.2636.1549
SEQUENCE:3
DTSTAMP:20260423T113820Z
URL:https://business.grimesiowa.com/events/details/political-open-forum-1549
END:VEVENT

END:VCALENDAR
