BEGIN:VCALENDAR
VERSION:2.0
PRODID:-//ChamberMaster//Event Calendar 2.0//EN
METHOD:PUBLISH
X-PUBLISHED-TTL:P3D
REFRESH-INTERVAL:P3D
CALSCALE:GREGORIAN
BEGIN:VEVENT
DTSTART:20200710T130000Z
DTEND:20200710T140000Z
X-MICROSOFT-CDO-ALLDAYEVENT:FALSE
SUMMARY:POSTPONED: Book Club Breakfast Wrap Up
DESCRIPTION:**POSTPONED**\n\nBreakfast Book Club gathering to talk through the first  reading "assignment" from Libby Spears book "What's Your Plan Be?" Working on naming it\, claiming\, it and living it in 2020. Join us for the wrap up of this years Book Club. We will discuss the final two chapters and discuss what we learned from Libby Spears.
X-ALT-DESC;FMTTYPE=text/html:**POSTPONED**<br />\nBreakfast Book Club gathering to talk through the first&nbsp\; reading &quot\;assignment&quot\; from Libby Spears book &quot\;What&#39\;s Your Plan Be?&quot\; Working on naming it\, claiming\, it and living it in 2020. Join us for the wrap up of this years Book Club. We will discuss the final two chapters and discuss what we learned from Libby Spears.&nbsp\;
LOCATION:Grimes Chamber & Economic Development Board Room 404 SE 2nd Street\; Suite 200 Grimes\, IA 50111
UID:e.2636.1517
SEQUENCE:3
DTSTAMP:20260423T054548Z
URL:https://business.grimesiowa.com/events/details/postponed-book-club-breakfast-wrap-up-1517
END:VEVENT

END:VCALENDAR
