BEGIN:VCALENDAR
VERSION:2.0
PRODID:-//ChamberMaster//Event Calendar 2.0//EN
METHOD:PUBLISH
X-PUBLISHED-TTL:P3D
REFRESH-INTERVAL:P3D
CALSCALE:GREGORIAN
BEGIN:VEVENT
DTSTART:20200416T123000Z
DTEND:20200416T150000Z
X-MICROSOFT-CDO-ALLDAYEVENT:FALSE
SUMMARY:POSTPONED\; Metro-Wide Women's Mentoring Event
DESCRIPTION:You could meet your mentor at our Metro-Wide Mentoring Morning for Women. This event will offer attendees an opportunity to meet mentors who are influential in business and the community\, for fast and fun coaching sessions at a later date. This event was originally scheduled for April 16th however this event has been postponed.
X-ALT-DESC;FMTTYPE=text/html:<span style="color: rgb(29\, 33\, 41)\; font-family: Helvetica\, Arial\, sans-serif\; font-size: 14px\; white-space: pre-wrap\;">You could meet your mentor at our Metro-Wide Mentoring Morning for Women. </span><span style="color: rgb(29\, 33\, 41)\; font-family: Helvetica\, Arial\, sans-serif\; font-size: 14px\; white-space: pre-wrap\;">This event will offer attendees an opportunity to meet mentors who are influential in business and the community\, for fast and fun coaching sessions at a later date. This event was originally scheduled for April 16th however this event has been postponed. </span>
LOCATION:
UID:e.2636.1561
SEQUENCE:3
DTSTAMP:20260423T090933Z
URL:https://business.grimesiowa.com/events/details/postponed-metro-wide-women-s-mentoring-event-1561
END:VEVENT

END:VCALENDAR
