BEGIN:VCALENDAR
VERSION:2.0
PRODID:-//ChamberMaster//Event Calendar 2.0//EN
METHOD:PUBLISH
X-PUBLISHED-TTL:P3D
REFRESH-INTERVAL:P3D
CALSCALE:GREGORIAN
BEGIN:VEVENT
DTSTART:20200417T123000Z
DTEND:20200417T133000Z
X-MICROSOFT-CDO-ALLDAYEVENT:FALSE
SUMMARY:POSTPONED\; Percolate A.M April 2020 - VisionBank
DESCRIPTION:
X-ALT-DESC;FMTTYPE=text/html:
LOCATION:VisionBank 925 SE Gateway Dr\, Grimes\, IA 50111
UID:e.2636.1539
SEQUENCE:3
DTSTAMP:20260423T084647Z
URL:https://business.grimesiowa.com/events/details/postponed-percolate-a-m-april-2020-visionbank-1539
END:VEVENT

END:VCALENDAR
