BEGIN:VCALENDAR
VERSION:2.0
PRODID:-//ChamberMaster//Event Calendar 2.0//EN
METHOD:PUBLISH
X-PUBLISHED-TTL:P3D
REFRESH-INTERVAL:P3D
CALSCALE:GREGORIAN
BEGIN:VEVENT
DTSTART:20200623T210000Z
DTEND:20200623T220000Z
X-MICROSOFT-CDO-ALLDAYEVENT:FALSE
SUMMARY:POSTPONED: YP Grimes Exclusive Tour
DESCRIPTION:**POSTPONED!**\n\n\n\nThis is a new series for YP Grimes Members and those interested in YP Grimes or just socializing with other Young Professionals. This is a series that will happen 3 times a year. We will take a small group of those that register to tour a business in Grimes. This tour will be of Merkle Production Studio with a presentation on how to take a show from start to finish!
X-ALT-DESC;FMTTYPE=text/html:**POSTPONED!**<br />\n<br />\nThis is a new series for YP Grimes Members and those interested in YP Grimes or just socializing with other Young Professionals. This is a series that will happen 3 times a year. We will take a small group of those that register to tour a business in Grimes. This tour will be of Merkle Production Studio with a presentation on how to take a show from start to finish!
LOCATION:Merkle Retirement Planning 1860 SE Princeton Dr\, Grimes\, IA 50111
UID:e.2636.1516
SEQUENCE:3
DTSTAMP:20260423T055634Z
URL:https://business.grimesiowa.com/events/details/postponed-yp-grimes-exclusive-tour-1516
END:VEVENT

END:VCALENDAR
