BEGIN:VCALENDAR
VERSION:2.0
PRODID:-//ChamberMaster//Event Calendar 2.0//EN
METHOD:PUBLISH
X-PUBLISHED-TTL:P3D
REFRESH-INTERVAL:P3D
CALSCALE:GREGORIAN
BEGIN:VEVENT
DTSTART:20200312T210000Z
DTEND:20200312T220000Z
X-MICROSOFT-CDO-ALLDAYEVENT:FALSE
SUMMARY:Pour Choices Neighborhood Bar Ribbon Cutting
DESCRIPTION:Come celebrate and show some love to the newest addition to Grimes. Pour Choices Neighborhood Bar has so many fun things to offer so come on out and check it out! Learn about the new place to hang out in Grimes!
X-ALT-DESC;FMTTYPE=text/html:Come celebrate and show some love to the newest addition to Grimes. Pour Choices Neighborhood Bar has so many fun things to offer so come on out and check it out! Learn about the new place to hang out in Grimes!&nbsp\;
LOCATION:Pour Choices Neighborhood Bar 1895 SE Grimes Blvd\; Ste 101 Grimes\, IA 50111
UID:e.2636.1552
SEQUENCE:3
DTSTAMP:20260423T114124Z
URL:https://business.grimesiowa.com/events/details/pour-choices-neighborhood-bar-ribbon-cutting-1552
END:VEVENT

END:VCALENDAR
