BEGIN:VCALENDAR
VERSION:2.0
PRODID:-//ChamberMaster//Event Calendar 2.0//EN
METHOD:PUBLISH
X-PUBLISHED-TTL:P3D
REFRESH-INTERVAL:P3D
CALSCALE:GREGORIAN
BEGIN:VEVENT
DTSTART:20180829T190000Z
DTEND:20180829T200000Z
X-MICROSOFT-CDO-ALLDAYEVENT:FALSE
SUMMARY:Raccoon Valley Bank Ground Breaking
DESCRIPTION:Please join us as we celebate the exciting ground breaking of the new Raccoon Valley Bank here in Grimes!
X-ALT-DESC;FMTTYPE=text/html:Please join us as we celebate the exciting ground breaking of the new Raccoon Valley Bank here in Grimes!&nbsp\;
LOCATION:1051 NE Gateway Drive (Heritage at Grimes Development) Grimes\, IA 50111
UID:e.2636.1316
SEQUENCE:3
DTSTAMP:20260424T114336Z
URL:https://business.grimesiowa.com/events/details/raccoon-valley-bank-ground-breaking-1316
END:VEVENT

END:VCALENDAR
