BEGIN:VCALENDAR
VERSION:2.0
PRODID:-//ChamberMaster//Event Calendar 2.0//EN
METHOD:PUBLISH
X-PUBLISHED-TTL:P3D
REFRESH-INTERVAL:P3D
CALSCALE:GREGORIAN
BEGIN:VEVENT
DTSTART:20180829T163000Z
DTEND:20180829T180000Z
X-MICROSOFT-CDO-ALLDAYEVENT:FALSE
SUMMARY:Regional Chamber Event: Membership Luncheon Series
DESCRIPTION:"Ignite Business" is the panel discussion hapening on August 29th at Ankney. This event is open to all Chamber Members and their staff as well as all Des Moines Partnership affiliate members. Payment must be prepaid and may be made by cash\, check or credit card. All reservations not kept will be billed. If you have questions or need more information\, please contact Jessica Erickson at the Ankeny Chamber at 515-964-0685. Register HERE.
X-ALT-DESC;FMTTYPE=text/html:<strong><span style="font-family:times new roman\;"><span style="font-size:14px\;">&quot\;Ignite Business&quot\; is the panel discussion hapening on August 29th at Ankney. <span style="outline-color: rgb(110\, 171\, 44)\; text-align: center\; background-color: rgb(255\, 255\, 255)\;"><strong style="outline-color: rgb(110\, 171\, 44)\;">This event is open to all Chamber Members and their staff as well as all Des Moines Partnership affiliate members. Payment must be prepaid and may be made by cash\, check or credit card. All reservations not kept will be billed. If you have questions or need more information\, please contact&nbsp\;Jessica Erickson&nbsp\;at the Ankeny Chamber at 515-964-0685. Register <a href="http://web.ankeny.org/events/August-Membership-Luncheon-3002/details">HERE</a>.&nbsp\;</strong></span></span></span></strong>
LOCATION:Courtyard by Marriott 2405 SE Creekview Drive Ankney\, IA
UID:e.2636.1315
SEQUENCE:3
DTSTAMP:20260424T115004Z
URL:https://business.grimesiowa.com/events/details/regional-chamber-event-membership-luncheon-series-1315
END:VEVENT

END:VCALENDAR
