BEGIN:VCALENDAR
VERSION:2.0
PRODID:-//ChamberMaster//Event Calendar 2.0//EN
METHOD:PUBLISH
X-PUBLISHED-TTL:P3D
REFRESH-INTERVAL:P3D
CALSCALE:GREGORIAN
BEGIN:VEVENT
DTSTART:20180816T213000Z
DTEND:20180816T230000Z
X-MICROSOFT-CDO-ALLDAYEVENT:FALSE
SUMMARY:Revive Chiropractic Ribbon Cutting
DESCRIPTION:Join us as we celebrate Revive Chiropractic! Dr. Brea and Quetin want to invite everyone to come tour their brand new facility and learn about the work that they do. The ribbon cutting ceremony will take place at 4:45 PM in partnership with the Urbandale Chamber\, West Des Moines Chamber\, and Johnston Chamber.
X-ALT-DESC;FMTTYPE=text/html:<span style="color: rgb(64\, 63\, 66)\; font-family: Arial\, Verdana\, Helvetica\, sans-serif\; font-size: 16px\; white-space: pre-wrap\; background-color: rgb(255\, 255\, 255)\;">Join us as we celebrate Revive Chiropractic! Dr. Brea and Quetin want to invite everyone to come tour their brand new facility and learn about the work that they do. The ribbon cutting ceremony will take place at 4:45 PM in partnership with the Urbandale Chamber\, West Des Moines Chamber\, and Johnston Chamber.</span>&nbsp\;
LOCATION:Revive Chiropractic 241 SE Destination Dr Grimes\, IA 50111
UID:e.2636.1301
SEQUENCE:3
DTSTAMP:20260424T103924Z
URL:https://business.grimesiowa.com/events/details/revive-chiropractic-ribbon-cutting-1301
END:VEVENT

END:VCALENDAR
