BEGIN:VCALENDAR
VERSION:2.0
PRODID:-//ChamberMaster//Event Calendar 2.0//EN
METHOD:PUBLISH
X-PUBLISHED-TTL:P3D
REFRESH-INTERVAL:P3D
CALSCALE:GREGORIAN
BEGIN:VEVENT
DTSTART:20160524T154500Z
DTEND:20160524T200000Z
X-MICROSOFT-CDO-ALLDAYEVENT:FALSE
SUMMARY:Ribbon Cutting Celebration
DESCRIPTION:Owens & Minor invites you to attend the celebration of their Grand Opening with a Ribbon Cutting Ceremony Tuesday\, May 24th\, 1601 SE Gateway Dr\, Grimes. The Ribbon Cutting will be held at 10:45 AM followed by a Open House\, from 11:00 AM until 3:00 PM.  Tours of the new facility and a light lunch will be included.
X-ALT-DESC;FMTTYPE=text/html:<span style="font-size:14px\;"><span style="font-family:arial\;">Owens &amp\; Minor invites you to attend&nbsp\;the celebration of&nbsp\;their Grand Opening with a Ribbon Cutting Ceremony&nbsp\;Tuesday\, May 24th\,<strong>&nbsp\;</strong>1601 SE Gateway Dr\,&nbsp\;Grimes. The <strong>Ribbon Cutting</strong> will be held at&nbsp\;</span></span><span style="font-family:verdana\,sans-serif\;"><span style="font-size:14px\;"><span style="font-family:arial\;">10:45 AM followed by a <strong>Open House</strong>\, from 11:00 AM until 3:00 PM. &nbsp\;Tours of the new facility and a light lunch will be included.&nbsp\;</span></span></span>
LOCATION:
UID:e.2636.10
SEQUENCE:3
DTSTAMP:20260426T005722Z
URL:https://business.grimesiowa.com/events/details/ribbon-cutting-celebration-05-24-2016-10
END:VEVENT

END:VCALENDAR
