BEGIN:VCALENDAR
VERSION:2.0
PRODID:-//ChamberMaster//Event Calendar 2.0//EN
METHOD:PUBLISH
X-PUBLISHED-TTL:P3D
REFRESH-INTERVAL:P3D
CALSCALE:GREGORIAN
BEGIN:VEVENT
DTSTART:20160525T180000Z
DTEND:20160525T200000Z
X-MICROSOFT-CDO-ALLDAYEVENT:FALSE
SUMMARY:Ribbon Cutting Celebration
DESCRIPTION:Please join GCED and the Johnston Chamber as we celebrate the Grand Opening of the new Edencrest Assisted Living & Memory Care facility.
X-ALT-DESC;FMTTYPE=text/html:Please join GCED and the Johnston Chamber as we celebrate the Grand Opening of&nbsp\;the new&nbsp\;Edencrest Assisted Living &amp\; Memory Care facility.
LOCATION:6570 Corporate Dr Johnston\, IA 50131
UID:e.2636.7
SEQUENCE:3
DTSTAMP:20260426T010042Z
URL:https://business.grimesiowa.com/events/details/ribbon-cutting-celebration-05-25-2016-7
END:VEVENT

END:VCALENDAR
