BEGIN:VCALENDAR
VERSION:2.0
PRODID:-//ChamberMaster//Event Calendar 2.0//EN
METHOD:PUBLISH
X-PUBLISHED-TTL:P3D
REFRESH-INTERVAL:P3D
CALSCALE:GREGORIAN
BEGIN:VEVENT
DTSTART:20221206T223000Z
DTEND:20221206T233000Z
X-MICROSOFT-CDO-ALLDAYEVENT:FALSE
SUMMARY:Shade Tree Auto Ribbon Cutting!
DESCRIPTION:Join us to celebrate Shade Tree Auto's second Location with a joint Ribbon Cutting!\n\nMake sure to bring a neighbor\, co-worker or friend to this event! Let's congratulate one of GCED's Platinum Level Investor's with a grand celebration!!
X-ALT-DESC;FMTTYPE=text/html:<div style="text-align: center\;"><span style="font-size:18px\;">Join us to celebrate Shade Tree Auto&#39\;s second Location with a joint Ribbon Cutting!<br />\nMake sure to bring a neighbor\, co-worker or friend to this event! Let&#39\;s congratulate one of GCED&#39\;s Platinum Level Investor&#39\;s with a grand celebration!!</span></div>\n
LOCATION:3831 70th Street Urbandale
UID:e.2636.1743
SEQUENCE:3
DTSTAMP:20260419T132911Z
URL:https://business.grimesiowa.com/events/details/shade-tree-auto-ribbon-cutting-1743
END:VEVENT

END:VCALENDAR
