BEGIN:VCALENDAR
VERSION:2.0
PRODID:-//ChamberMaster//Event Calendar 2.0//EN
METHOD:PUBLISH
X-PUBLISHED-TTL:P3D
REFRESH-INTERVAL:P3D
CALSCALE:GREGORIAN
BEGIN:VEVENT
DTSTART:20210729T220000Z
DTEND:20210730T023000Z
X-MICROSOFT-CDO-ALLDAYEVENT:FALSE
SUMMARY:*SOLD OUT* Grimes Chamber & Economic Development's Annual Dinner
DESCRIPTION:**SOLD OUT!**\n\n\n\nThis years Annual Dinner and Awards Ceremony will take place on a new date! Awards will be handed out to our Ambassador\, Business\, Citizen and Educator "Of the Year". If your business would like to donate a Silent Auction Item please contact the GCED office and let Kayla Bruns know.\n\n\n\nRSVP by July 15th. Seats are limited.\n\nDress in business casual.\n\n \n\n	Silver Sponsor\n	\n		City State Bank\n		Black Hills Energy\n	\n	\n	Entertainment Sponsor\n	\n		Timmins\, Jacobsen & Strawhacker\, LLP\n		Athletico Physical Therapy\n	\n	\n	Corporate Table Sponsor\n	\n		VisionBank\n		City of Grimes\n		Bankers Trust\n		Grimes Volunteer Support Services\n		Charter Bank\n		Raccoon Valley Bank\n	\n	\n	Decoration Sponsor\n	\n		Cooking by J Personal Chef Service\n	\n	\n	Registration Table Sponsor\n	\n		Inspro Insurance\n	\n	\n	Bar and Bistro Table Sponsor\n	\n		Back to Health Chiropractic\n	\n	\n	Silent Auction Sponsor\n	\n		Grove & Platt Dental Associates\n	\n	\n	Silent Auction Sponsor\n	\n		Miller\, Fidler & Hinke Insurance\n		Godfather's Pizza
X-ALT-DESC;FMTTYPE=text/html:<span style="font-family: Montserrat\, sans-serif\; font-size: 16px\;"><strong><span style="font-size:26px\;">**SOLD OUT!**</span></strong><br />\n<br />\nThis years Annual Dinner and Awards Ceremony will take place on a new date! Awards will be handed out to our Ambassador\, Business\, Citizen and Educator &quot\;Of the Year&quot\;. If your business would like to donate a Silent Auction Item please contact the GCED office and let Kayla Bruns know.<br />\n<br />\n<strong>RSVP by July 15th. Seats are limited.</strong><br />\n<strong>Dress in business casual.</strong></span><br />\n&nbsp\;\n<ul style="color: rgb(0\, 0\, 0)\; font-family: &quot\;Trebuchet MS&quot\;\, Tahoma\, &quot\;Nimbus Sans L&quot\;\, sans-serif\;">\n	<li><span style="font-family:arial\;"><span style="font-size:16px\;"><b>Silver Sponsor</b></span></span>\n	<ul>\n		<li><span style="font-family:arial\;"><span style="font-size:16px\;">City State Bank</span></span></li>\n		<li><span style="font-family:arial\;"><span style="font-size:16px\;">Black Hills Energy</span></span></li>\n	</ul>\n	</li>\n	<li><span style="font-family:arial\;"><span style="font-size:16px\;"><b>Entertainment Sponsor</b></span></span>\n	<ul>\n		<li><span style="font-family:arial\;"><span style="font-size:16px\;">Timmins\, Jacobsen &amp\; Strawhacker\, LLP</span></span></li>\n		<li><span style="font-family:arial\;"><span style="font-size:16px\;">Athletico Physical Therapy</span></span></li>\n	</ul>\n	</li>\n	<li><span style="font-family:arial\;"><span style="font-size:16px\;"><b>Corporate Table Sponsor</b></span></span>\n	<ul>\n		<li><span style="font-family:arial\;"><span style="font-size:16px\;">VisionBank</span></span></li>\n		<li><span style="font-family:arial\;"><span style="font-size:16px\;">City of Grimes</span></span></li>\n		<li><span style="font-family:arial\;"><span style="font-size:16px\;">Bankers Trust</span></span></li>\n		<li><span style="font-family:arial\;"><span style="font-size:16px\;">Grimes Volunteer Support Services</span></span></li>\n		<li><span style="font-family:arial\;"><span style="font-size:16px\;">Charter Bank</span></span></li>\n		<li><span style="font-family:arial\;"><span style="font-size:16px\;">Raccoon Valley Bank</span></span></li>\n	</ul>\n	</li>\n	<li><span style="font-family:arial\;"><span style="font-size:16px\;"><b>Decoration Sponsor</b></span></span>\n	<ul>\n		<li><span style="font-family:arial\;"><span style="font-size:16px\;">Cooking by J Personal Chef Service</span></span></li>\n	</ul>\n	</li>\n	<li><span style="font-family:arial\;"><span style="font-size:16px\;"><b>Registration Table Sponsor</b></span></span>\n	<ul>\n		<li><span style="font-family:arial\;"><span style="font-size:16px\;">Inspro Insurance</span></span></li>\n	</ul>\n	</li>\n	<li><span style="font-family:arial\;"><span style="font-size:16px\;"><b>Bar and Bistro Table Sponsor</b></span></span>\n	<ul>\n		<li><span style="font-family:arial\;"><span style="font-size:16px\;">Back to Health Chiropractic</span></span></li>\n	</ul>\n	</li>\n	<li><span style="font-family:arial\;"><span style="font-size:16px\;"><b>Silent Auction Sponsor</b></span></span>\n	<ul>\n		<li><span style="font-family:arial\;"><span style="font-size:16px\;">Grove &amp\; Platt Dental Associates</span></span></li>\n	</ul>\n	</li>\n	<li><span style="font-family:arial\;"><span style="font-size:16px\;"><b>Silent Auction Sponsor</b></span></span>\n	<ul>\n		<li><span style="font-family:arial\;"><span style="font-size:16px\;">Miller\, Fidler &amp\; Hinke Insurance</span></span></li>\n		<li><span style="font-family:arial\;"><span style="font-size:16px\;">Godfather&#39\;s Pizza</span></span></li>\n	</ul>\n	</li>\n</ul>\n
LOCATION:Stoney Creek Hotel & Conference Center 5291 Stoney Creek Court Johnston\, IA 50131
UID:e.2636.1624
SEQUENCE:3
DTSTAMP:20260420T163814Z
URL:https://business.grimesiowa.com/events/details/sold-out-grimes-chamber-economic-development-s-annual-dinner-1624
END:VEVENT

END:VCALENDAR
