BEGIN:VCALENDAR
VERSION:2.0
PRODID:-//ChamberMaster//Event Calendar 2.0//EN
METHOD:PUBLISH
X-PUBLISHED-TTL:P3D
REFRESH-INTERVAL:P3D
CALSCALE:GREGORIAN
BEGIN:VEVENT
DTSTART:20260402T213000Z
DTEND:20260403T003000Z
X-MICROSOFT-CDO-ALLDAYEVENT:FALSE
SUMMARY:Sunrise Coin Laundry Ribbon Cutting
DESCRIPTION:Please join us for the Ribbon Cutting Celebration\n\nas we proudly open Sunrise Coin Laundry!\n\n  Location: 103 E 1st St.\, IA 50111 (Next to Heavenly Delights)\n\n  Date: Thursday\, April 2\, 2026\n\n  Time: 4:00 PM\n\nWe're excited to celebrate this new addition to the Grimes business community and we'd love to see you there! Come meet the owners\, tour the facility\, enjoy refreshments\, snack on some treats and be part of the fun as we officially cut the ribbon to welcome Sunrise Coin Laundry to town.\n  Family-friendly   Community spirit   Great conversations   Music  \n\nPlease RSVP if you plan to attend  and feel free to bring friends and neighbors!
X-ALT-DESC;FMTTYPE=text/html:<p data-end="237" data-start="137">Please join us for the <strong data-end="190" data-start="160">Ribbon Cutting Celebration</strong><br data-end="193" data-start="190" />\nas we proudly open <strong data-end="236" data-start="212">Sunrise Coin Laundry</strong>!</p>\n\n<p data-end="357" data-start="239">&#128205\; <strong data-end="255" data-start="242">Location:</strong> 103 E 1st St.\, IA 50111 (Next to Heavenly Delights)<br data-end="291" data-start="288" />\n&#128197\; <strong data-end="303" data-start="294">Date:</strong> Thursday\, <strong data-end="331" data-start="314">April 2\, 2026</strong><br data-end="334" data-start="331" />\n&#9200\; <strong data-end="345" data-start="336">Time:</strong> <strong data-end="357" data-start="346">4:00 PM</strong></p>\n\n<p data-end="633" data-start="359">We&rsquo\;re excited to celebrate this new addition to the Grimes business community&nbsp\;and we&rsquo\;d love to see you there! Come meet the owners\, tour the facility\, enjoy refreshments\, snack on some treats and be part of the fun as we officially cut the ribbon to welcome Sunrise Coin Laundry to town.</p>\n&#10024\; Family-friendly &bull\; Community spirit &bull\; Great conversations &bull\; Music &#10024\;\n\n<p data-end="778" data-start="697">Please RSVP if you plan to attend &nbsp\;and feel free to bring friends and neighbors!</p>\n
LOCATION:103 S James St\, Grimes\, IA 50111
UID:e.2636.2038
SEQUENCE:3
DTSTAMP:20260420T080652Z
URL:https://business.grimesiowa.com/events/details/sunrise-coin-laundry-ribbon-cutting-2038
END:VEVENT

END:VCALENDAR
