BEGIN:VCALENDAR
VERSION:2.0
PRODID:-//ChamberMaster//Event Calendar 2.0//EN
METHOD:PUBLISH
X-PUBLISHED-TTL:P3D
REFRESH-INTERVAL:P3D
CALSCALE:GREGORIAN
BEGIN:VEVENT
DTSTART;VALUE=DATE:20161124
DTEND;VALUE=DATE:20161126
TRANSP:TRANSPARENT
X-MICROSOFT-CDO-ALLDAYEVENT:TRUE
SUMMARY:THANKSGIVING HOLIDAY - Office Closed
DESCRIPTION:The GCED office will be closed for the Thanksgiving Holiday on Thursday\, November 24th and November 25th.
X-ALT-DESC;FMTTYPE=text/html:The GCED&nbsp\;office will be closed for the Thanksgiving Holiday on Thursday\, November 24th and November 25th.
LOCATION:
UID:e.2636.44
SEQUENCE:3
DTSTAMP:20260425T162454Z
URL:https://business.grimesiowa.com/events/details/thanksgiving-holiday-office-closed-44
END:VEVENT

END:VCALENDAR
