BEGIN:VCALENDAR
VERSION:2.0
PRODID:-//ChamberMaster//Event Calendar 2.0//EN
METHOD:PUBLISH
X-PUBLISHED-TTL:P3D
REFRESH-INTERVAL:P3D
CALSCALE:GREGORIAN
BEGIN:VEVENT
DTSTART:20220721T224500Z
DTEND:20220722T000000Z
X-MICROSOFT-CDO-ALLDAYEVENT:FALSE
SUMMARY:The Brick Room Ribbon Cutting!
DESCRIPTION:Join us in celebrating The Brick Room\, one of Grimes Chamber & Economic Development's new members\, with a Ribbon Cutting!\n\nLet's welcome this new business in Grimes with open arms!\n\nFeel free to bring a friend\, co-worker or neighbor to this event!\n\n \n\n \n\nFree Admission\, Ages 21+ In Honor of Our Grand Opening Month!!\n\nDoors Open at 5 PM\n\nRibbon Cutting at 5:45 PM\n\nLive Band 6:30-8:30 PM\n\n \n\nRESERVE SEATS AVAILABLE - https://thebrickroomgrimes.com/registrations\n\nFREE BEER/WINE & NO COVER!!\n\n\n\nYou can also bring your own Beer/Wine/Snacks (no liquor)\n\nTips for the Musicians Are Greatly Appreciated!\n\n \n\nSonic Revival (Our House Band):\n\nNathan Finestead/Guitar & Vocals\n\nBlake Schmitz/Bass & Vocals\n\nJay Corigliano Drums\n\nDenise Schmitz/Vocals
X-ALT-DESC;FMTTYPE=text/html:<div style="text-align: center\;"><strong><span style="background:white\;"><span style="color:#333333\;"><span style="font-family:arial\,sans-serif\;"><span style="font-size:12.0pt\;">Join us in celebrating The Brick Room\, one of Grimes Chamber &amp\; Economic Development&#39\;s new members\, with a Ribbon Cutting!</span></span></span></span></strong><br style="font-variant-ligatures:normal\;font-variant-caps:normal\;orphans:2\;text-align:start\;widows:2\;-webkit-text-stroke-width:0px\;text-decoration-thickness:initial\;text-decoration-style:initial\;word-spacing:0px\;" />\n<strong><span style="color:#333333\;"><span style="font-family:arial\,sans-serif\;"><span style="font-size:12.0pt\;"><span style="background:white\;"><span style="font-variant-ligatures:normal\;font-variant-caps:normal\;orphans:2\;text-align:start\;widows:2\;-webkit-text-stroke-width:0px\;text-decoration-thickness:initial\;text-decoration-style:initial\;float:none\;word-spacing:0px\;">Let&#39\;s welcome this new business in Grimes with open arms!</span></span><br style="font-variant-ligatures:normal\;font-variant-caps:normal\;orphans:2\;text-align:start\;widows:2\;-webkit-text-stroke-width:0px\;text-decoration-thickness:initial\;text-decoration-style:initial\;word-spacing:0px\;" />\n<span style="background:white\;"><span style="font-variant-ligatures:normal\;font-variant-caps:normal\;orphans:2\;text-align:start\;widows:2\;-webkit-text-stroke-width:0px\;text-decoration-thickness:initial\;text-decoration-style:initial\;float:none\;word-spacing:0px\;">Feel free to bring a friend\, co-worker or neighbor to this event!</span></span></span></span></span></strong><br />\n&nbsp\;<br />\n&nbsp\;<br />\n<span style="color:#050505\;"><span style="font-family:segoe ui historic\,sans-serif\;"><span style="font-size:11.5pt\;">Free Admission\, Ages 21+ In Honor of Our Grand Opening Month!!</span></span></span><br />\n<span style="color:#050505\;"><span style="font-family:segoe ui historic\,sans-serif\;"><span style="font-size:11.5pt\;">Doors Open at 5 PM</span></span></span><br />\n<strong><span style="color:#050505\;"><span style="font-family:segoe ui historic\,sans-serif\;"><span style="font-size:14.0pt\;">Ribbon Cutting at 5:45 PM</span></span></span></strong><br />\n<span style="color:#050505\;"><span style="font-family:segoe ui historic\,sans-serif\;"><span style="font-size:11.5pt\;">Live Band 6:30-8:30 PM</span></span></span><br />\n&nbsp\;<br />\n<span style="color:#050505\;"><span style="font-family:segoe ui historic\,sans-serif\;"><span style="font-size:11.5pt\;">RESERVE SEATS AVAILABLE -&nbsp\;<a href="https://l.facebook.com/l.php?u=https%3A%2F%2Fthebrickroomgrimes.com%2Fregistrations%3Ffbclid%3DIwAR0wWCGM9UMEwPdXh9W58rNHzzIqaNDpfDbRhOfX5K9RpACgv-zMM8v1l-I&amp\;h=AT06Q4G2YKtpzXGQmeRfLyfifUsFtH3gFaXdj3tqMGlwQ3dFsINqilF0X4HzyTMPlKaZ7p2ktgGop2DCzhw5pdAtUphBFccaBsA-CGGmX_XVyEKyQKVKnjQfkh1Xxac5FA&amp\;__tn__=q&amp\;c%5b0%5d=AT0KS68K70VP2TJW9o8HemT7dWWb1wZg8tnBPieAVAy3sr5CW7OzD5olhUj0gzwhXbjIPkzI6YZuxyYe7-exoYomaeZOt4f69StrKXpnXuVB1wmW3h5Z0Dpl6hT9p8QvmNvBA33QqHy0fz7jxjqQdl92" role="link" style="color:var(--blue-link)\;cursor:pointer\;outline:none\;border-style:initial\;touch-action:manipulation\;text-align:inherit\;box-sizing:border-box\;" target="_blank"><span style="border:none windowtext 1.0pt\;padding:0in\;"><span style="font-family:inherit\,serif\;">https://thebrickroomgrimes.com/registrations</span></span></a></span></span></span><br />\n<span style="color:#050505\;"><span style="font-family:segoe ui historic\,sans-serif\;"><span style="font-size:11.5pt\;">FREE BEER/WINE &amp\; NO COVER!!</span></span></span><br />\n<br />\n<span style="color:#050505\;"><span style="font-family:segoe ui historic\,sans-serif\;"><span style="font-size:11.5pt\;">You can also bring your own Beer/Wine/Snacks (no liquor)</span></span></span><br />\n<span style="color:#050505\;"><span style="font-family:segoe ui historic\,sans-serif\;"><span style="font-size:11.5pt\;">Tips for the Musicians Are Greatly Appreciated!</span></span></span><br />\n&nbsp\;<br />\n<span style="color:#050505\;"><span style="font-family:segoe ui historic\,sans-serif\;"><span style="font-size:11.5pt\;">Sonic Revival (Our House Band):<br />\nNathan Finestead/Guitar &amp\; Vocals<br />\nBlake Schmitz/Bass &amp\; Vocals<br />\nJay Corigliano Drums<br />\nDenise Schmitz/Vocals</span></span></span></div>\n
LOCATION:The Brick Room 208 SE Main St. Grimes\, IA
UID:e.2636.1713
SEQUENCE:3
DTSTAMP:20260419T205839Z
URL:https://business.grimesiowa.com/events/details/the-brick-room-ribbon-cutting-1713
END:VEVENT

END:VCALENDAR
