BEGIN:VCALENDAR
VERSION:2.0
PRODID:-//ChamberMaster//Event Calendar 2.0//EN
METHOD:PUBLISH
X-PUBLISHED-TTL:P3D
REFRESH-INTERVAL:P3D
CALSCALE:GREGORIAN
BEGIN:VEVENT
DTSTART:20220121T173000Z
DTEND:20220121T180000Z
X-MICROSOFT-CDO-ALLDAYEVENT:FALSE
SUMMARY:Tommy's Express Car Wash Ribbon Cutting!
DESCRIPTION:Join us in celebrating Tommy's Express Car Wash here in Grimes with a Ribbon Cutting! Come out and help celebrate our first Ribbon Cutting of the New Year! Bring a co-worker\, friend or neighbor! See you there!
X-ALT-DESC;FMTTYPE=text/html:<div style="text-align: center\;"><span style="font-size:20px\;">Join us in celebrating Tommy&#39\;s Express Car Wash here in Grimes with a Ribbon Cutting! Come out and help celebrate our first Ribbon Cutting of the New Year! Bring a co-worker\, friend or neighbor! See you there!</span></div>\n
LOCATION:Tommy's Car Wash 2480 E 1st St Grimes\, IA 50111
UID:e.2636.1671
SEQUENCE:3
DTSTAMP:20260420T050529Z
URL:https://business.grimesiowa.com/events/details/tommy-s-express-car-wash-ribbon-cutting-1671
END:VEVENT

END:VCALENDAR
