BEGIN:VCALENDAR
VERSION:2.0
PRODID:-//ChamberMaster//Event Calendar 2.0//EN
METHOD:PUBLISH
X-PUBLISHED-TTL:P3D
REFRESH-INTERVAL:P3D
CALSCALE:GREGORIAN
BEGIN:VEVENT
DTSTART:20180627T170000Z
DTEND:20180627T180000Z
X-MICROSOFT-CDO-ALLDAYEVENT:FALSE
SUMMARY:Top Five For Small Business- Policies to Have For Employees And Why They're Important
DESCRIPTION:This Top FIve series features expert in human resources marketing \, accounting \, IT and others and will arm you with five key takeaways that will help your small business be successful.  Join us this month as we learn the Top Five Policies to Have For Employees And Why They're Important. Grab your lunch and come over to the Harley L. Otto Memorial Board Room. Presentation to start promptly at noon.
X-ALT-DESC;FMTTYPE=text/html:<span style="font-size: 14px\;">This Top FIve series features expert in human resources marketing \, accounting \, IT and others and will arm you with five key takeaways that will help your small business be successful.&nbsp\; Join us this month as we learn the</span><span style="color: rgb(51\, 51\, 51)\; font-family: sans-serif\, Arial\, Verdana\, &quot\;Trebuchet MS&quot\;\; font-size: 14px\; background-color: rgb(255\, 255\, 255)\;">&nbsp\;Top Five Policies to Have For Employees And Why&nbsp\;</span><span style="color: rgb(51\, 51\, 51)\; font-family: sans-serif\, Arial\, Verdana\, &quot\;Trebuchet MS&quot\;\; font-size: 14px\; background-color: rgb(255\, 255\, 255)\;">They&#39\;re</span><span style="color: rgb(51\, 51\, 51)\; font-family: sans-serif\, Arial\, Verdana\, &quot\;Trebuchet MS&quot\;\; font-size: 14px\; background-color: rgb(255\, 255\, 255)\;">&nbsp\;Important. Grab your lunch and come over to the Harley L. Otto Memorial Board Room. Presentation to start promptly at noon.&nbsp\;</span>
LOCATION:Harley L. Otto Memorial Board Room Grimes Chamber & Economic Development 404 SE 2nd Street\; Suite 200 Grimes\, IA 50111
UID:e.2636.1290
SEQUENCE:3
DTSTAMP:20260424T144453Z
URL:https://business.grimesiowa.com/events/details/top-five-for-small-business-policies-to-have-for-employees-and-why-they-re-important-1290
END:VEVENT

END:VCALENDAR
