BEGIN:VCALENDAR
VERSION:2.0
PRODID:-//ChamberMaster//Event Calendar 2.0//EN
METHOD:PUBLISH
X-PUBLISHED-TTL:P3D
REFRESH-INTERVAL:P3D
CALSCALE:GREGORIAN
BEGIN:VEVENT
DTSTART:20180328T164500Z
DTEND:20180328T180000Z
X-MICROSOFT-CDO-ALLDAYEVENT:FALSE
SUMMARY:Top Five For Small Business - Tax Reform Will Affect Your Business (And You Personally)
DESCRIPTION:This presentation will focus on the new tax bill and how it will affect businesses as well as individuals. Specifically\, the presentation will go into detail on five topics: Tax Rates\, General Provisions\, Pass-Through Taxation\, Iowa Tax Considerations\, and Individual Taxation. There will be many examples to illustrate the various changes and how they could benefit your business or you as an individual. In summary\, the presentation will try and simplify the complex tax bill into ways that are easily understood. \n\n\n\nRob Poterucha is a senior accountant in the business advisory and tax services department at McGowen\, Hurst\, Clark & Smith\, P.C. He primarily specializes in compliance and consulting services for corporations\, closely-held businesses and individuals with an emphasis in multi-state taxation. Rob attended Iowa State University\, where he graduated with a bachelor's degree in accounting. Rob is a member of the American Institute of CPAs and the Iowa Society of CPAs. He is also involved with Downtown Des Moines Chamber of Commerce and the Nevada Music Parents.
X-ALT-DESC;FMTTYPE=text/html:<span style="background:white\;"><span style="color:#333333\;"><span style="font-family:arial\,sans-serif\;"><span style="font-size:10.5pt\;">This presentation will focus on the new tax bill and how it will affect businesses as well as individuals. Specifically\, the presentation will go into detail on five topics: Tax Rates\, General Provisions\, Pass-Through Taxation\, Iowa Tax Considerations\, and Individual Taxation. There will be many examples to illustrate the various changes and how they could benefit your business or you as an individual. In summary\, the presentation will try and simplify the complex tax bill into ways that are easily understood.&nbsp\;<br />\n<br />\nRob&nbsp\;</span></span></span></span><span style="color:#333333\;"><span style="font-family:arial\,sans-serif\;"><span style="font-size:10.5pt\;">Poterucha</span></span></span><span style="background:white\;"><span style="color:#333333\;"><span style="font-family:arial\,sans-serif\;"><span style="font-size:10.5pt\;">&nbsp\;is a senior accountant in the business advisory and tax services department at&nbsp\;</span></span></span></span><span style="color:#333333\;"><span style="font-family:arial\,sans-serif\;"><span style="font-size:10.5pt\;">McGowen</span></span></span><span style="background:white\;"><span style="color:#333333\;"><span style="font-family:arial\,sans-serif\;"><span style="font-size:10.5pt\;">\, Hurst\, Clark &amp\; Smith\, P.C. He primarily specializes in compliance and consulting services for corporations\, closely-held businesses and individuals with an emphasis in multi-state taxation. Rob attended Iowa State University\, where he graduated with a bachelor&rsquo\;s degree in accounting. Rob is a member of the American Institute of CPAs and the Iowa Society of CPAs. He is also involved with Downtown Des Moines Chamber of Commerce and the Nevada Music Parents.&nbsp\;</span></span></span></span><br />\n&nbsp\;
LOCATION:Harley L. Otto Memorial Board Room Grimes Chamber & Economic Development 404 SE 2nd Street Grimes\, IA 50111
UID:e.2636.1284
SEQUENCE:3
DTSTAMP:20260424T173851Z
URL:https://business.grimesiowa.com/events/details/top-five-for-small-business-tax-reform-will-affect-your-business-and-you-personally-1284
END:VEVENT

END:VCALENDAR
