BEGIN:VCALENDAR
VERSION:2.0
PRODID:-//ChamberMaster//Event Calendar 2.0//EN
METHOD:PUBLISH
X-PUBLISHED-TTL:P3D
REFRESH-INTERVAL:P3D
CALSCALE:GREGORIAN
BEGIN:VEVENT
DTSTART:20180523T170000Z
DTEND:20180523T180000Z
X-MICROSOFT-CDO-ALLDAYEVENT:FALSE
SUMMARY:Top Five For Small Business- Things for Your Website
DESCRIPTION:Your website is your digital storefront\, it's your client or customer's first impression of you\, it's a member of your sales team\, it's one of your most valuable marketing tools. It's not meant to just sit there on the internet collecting dust. The internet changes regularly\, as does your target audience and how they interact with websites. It's important to keep your website up-to-date with relevant information and current technology to continue to support your business goals. Learn some of the most important things to focus on to keep your website looking sharp and working hard. Join us as we hear from Happy Medium on the Top Five Things for Your Website.
X-ALT-DESC;FMTTYPE=text/html:<span style="font-size: 14px\;">Y</span><span style="color: rgb(38\, 38\, 38)\; font-family: arial\; font-size: 14px\; background-color: rgb(255\, 255\, 255)\;">our website is your digital storefront\, it&rsquo\;s your client or customer&rsquo\;s first impression of you\, it&rsquo\;s a member of your sales team\, it&rsquo\;s one of your most valuable marketing tools. It&rsquo\;s not meant to just sit there on the internet collecting dust. The internet changes regularly\, as does your target audience and how they interact with websites. It&rsquo\;s important to keep your website up-to-date with relevant information and current technology to continue to support your business goals. Learn some of the most important things to focus on to keep your website looking sharp and working hard.&nbsp\;</span><span style="color: rgb(51\, 51\, 51)\; font-family: sans-serif\, Arial\, Verdana\, &quot\;Trebuchet MS&quot\;\; font-size: 14px\; background-color: rgb(255\, 255\, 255)\;">Join us as we hear from&nbsp\;</span><em style="color: rgb(51\, 51\, 51)\; font-family: sans-serif\, Arial\, Verdana\, &quot\;Trebuchet MS&quot\;\; font-size: 14px\; background-color: rgb(255\, 255\, 255)\;"><strong>Happy Medium</strong></em><span style="color: rgb(51\, 51\, 51)\; font-family: sans-serif\, Arial\, Verdana\, &quot\;Trebuchet MS&quot\;\; font-size: 14px\; background-color: rgb(255\, 255\, 255)\;">&nbsp\;on the Top Five Things for Your Website.</span>
LOCATION:Harley L. Otto Memorial Board Room Grimes Chamber & Economic Development 404 SE 2nd Street\; Suite 200 Grimes\, IA 50111
UID:e.2636.1289
SEQUENCE:3
DTSTAMP:20260424T160642Z
URL:https://business.grimesiowa.com/events/details/top-five-for-small-business-things-for-your-website-1289
END:VEVENT

END:VCALENDAR
