BEGIN:VCALENDAR
VERSION:2.0
PRODID:-//ChamberMaster//Event Calendar 2.0//EN
METHOD:PUBLISH
X-PUBLISHED-TTL:P3D
REFRESH-INTERVAL:P3D
CALSCALE:GREGORIAN
BEGIN:VEVENT
DTSTART:20180425T170000Z
DTEND:20180425T180000Z
X-MICROSOFT-CDO-ALLDAYEVENT:FALSE
SUMMARY:Top Five For Small Business- Things to Know When Leasing a Space for Your Business
DESCRIPTION:Making a commercial real estate decision is an important one and may have long term impacts on you and your organization. You will be faced with many acronyms\, brokers and landlords   despite all of that\, the process of finding your future location can be fun and rewarding when armed with the right questions and assembling the right team to help you through the process. Our panelists will help you identify these questions and hopefully make the process stress free and ultimately a successful one. We will focus on the following themes:\n\n \n\nTop Five things to know when leasing a space for your business:\n\n          Benefits of Having a Broker Team \n\n          Know the lingo \n\n          Avoiding the Avoidable \n\n          Lease Agreements/Purchase Negotiations and Agreements\n\n          Tenant Improvements
X-ALT-DESC;FMTTYPE=text/html:<span style="border:none windowtext 1.0pt\;padding:0in\;"><span style="color:#333333\;"><span style="font-family:inherit\;"><span style="font-size:10.5pt\;">Making a commercial real estate decision is an important one and may have&nbsp\;long term impacts on you and your organization. You will be faced with many acronyms\,&nbsp\;brokers and landlords&nbsp\;&frac34\;&nbsp\;despite all of that\, the process of finding your future location can be fun and rewarding when armed with the right questions and assembling the right team to help you through the process. Our panelists will help you identify these questions and hopefully make the process stress free and ultimately a successful one. We will focus on the following themes:<br />\n&nbsp\;<br />\nTop Five things to know when leasing a space for your business:</span></span></span></span><br />\n<span style="text-indent:-0.25in\;"><span style="font-family:symbol\;"><span style="font-size:10pt\;">&middot\;&nbsp\;&nbsp\;&nbsp\;&nbsp\;&nbsp\;&nbsp\;&nbsp\;&nbsp\; </span></span></span><span style="text-indent:-0.25in\;border:1pt none windowtext\;padding:0in\;"><span style="color:#333333\;"><span style="font-family:inherit\;"><span style="font-size:10.5pt\;">Benefits of Having a Broker Team&nbsp\;</span></span></span></span><br />\n<span style="text-indent:-0.25in\;"><span style="font-family:symbol\;"><span style="font-size:10pt\;">&middot\;&nbsp\;&nbsp\;&nbsp\;&nbsp\;&nbsp\;&nbsp\;&nbsp\;&nbsp\; </span></span></span><span style="text-indent:-0.25in\;border:1pt none windowtext\;padding:0in\;"><span style="color:#333333\;"><span style="font-family:inherit\;"><span style="font-size:10.5pt\;">Know the lingo&nbsp\;</span></span></span></span><br />\n<span style="text-indent:-0.25in\;"><span style="font-family:symbol\;"><span style="font-size:10pt\;">&middot\;&nbsp\;&nbsp\;&nbsp\;&nbsp\;&nbsp\;&nbsp\;&nbsp\;&nbsp\; </span></span></span><span style="text-indent:-0.25in\;border:1pt none windowtext\;padding:0in\;"><span style="color:#333333\;"><span style="font-family:inherit\;"><span style="font-size:10.5pt\;">Avoiding the Avoidable&nbsp\;</span></span></span></span><br />\n<span style="text-indent:-0.25in\;"><span style="font-family:symbol\;"><span style="font-size:10pt\;">&middot\;&nbsp\;&nbsp\;&nbsp\;&nbsp\;&nbsp\;&nbsp\;&nbsp\;&nbsp\; </span></span></span><span style="text-indent:-0.25in\;border:1pt none windowtext\;padding:0in\;"><span style="color:#333333\;"><span style="font-family:inherit\;"><span style="font-size:10.5pt\;">Lease Agreements/Purchase Negotiations and Agreements</span></span></span></span><br />\n<span style="text-indent:-0.25in\;"><span style="font-family:symbol\;"><span style="font-size:10pt\;">&middot\;&nbsp\;&nbsp\;&nbsp\;&nbsp\;&nbsp\;&nbsp\;&nbsp\;&nbsp\; </span></span></span><span style="text-indent:-0.25in\;border:1pt none windowtext\;padding:0in\;"><span style="color:#333333\;"><span style="font-family:inherit\;"><span style="font-size:10.5pt\;">Tenant Improvements&nbsp\;</span></span></span></span><br />\n&nbsp\;
LOCATION:Harley L. Otto Memorial Board Room Grimes Chamber & Economic Development 404 SE 2nd Street\; Suite 200 Grimes\, IA 50111
UID:e.2636.1288
SEQUENCE:3
DTSTAMP:20260424T160832Z
URL:https://business.grimesiowa.com/events/details/top-five-for-small-business-things-to-know-when-leasing-a-space-for-your-business-1288
END:VEVENT

END:VCALENDAR
