BEGIN:VCALENDAR
VERSION:2.0
PRODID:-//ChamberMaster//Event Calendar 2.0//EN
METHOD:PUBLISH
X-PUBLISHED-TTL:P3D
REFRESH-INTERVAL:P3D
CALSCALE:GREGORIAN
BEGIN:VEVENT
DTSTART:20220616T163000Z
DTEND:20220616T190000Z
X-MICROSOFT-CDO-ALLDAYEVENT:FALSE
SUMMARY:United Services of Des Moines Ribbon Cutting/Open House!
DESCRIPTION:Join us in celebrating United Services of Des Moines' new addition with a Ribbon Cutting and Open House!\n\nCome for 5 minutes or stay an hour! Meet\, mix and mingle with friends and United Services Leadership! Make sure to RSVP!\n\n\n\nLunch will be served!\n\nRibbon Cutting will be at 11:30am!
X-ALT-DESC;FMTTYPE=text/html:Join us in celebrating United Services of Des Moines&#39\; new addition with a Ribbon Cutting and Open House!<br />\nCome for 5 minutes or stay an hour! Meet\, mix and mingle with friends and United Services Leadership! Make sure to RSVP!<br />\n<br />\nLunch will be served!<br />\nRibbon Cutting will be at 11:30am!
LOCATION:United Services of Des Moines 1850 SE Destination Drive\, Grimes\, IA
UID:e.2636.1706
SEQUENCE:3
DTSTAMP:20260419T222909Z
URL:https://business.grimesiowa.com/events/details/united-services-of-des-moines-ribbon-cutting-open-house-1706
END:VEVENT

END:VCALENDAR
