BEGIN:VCALENDAR
VERSION:2.0
PRODID:-//ChamberMaster//Event Calendar 2.0//EN
METHOD:PUBLISH
X-PUBLISHED-TTL:P3D
REFRESH-INTERVAL:P3D
CALSCALE:GREGORIAN
BEGIN:VEVENT
DTSTART:20210709T160000Z
DTEND:20210709T180000Z
X-MICROSOFT-CDO-ALLDAYEVENT:FALSE
SUMMARY:UNITS of Central Iowa Ribbon Cutting
DESCRIPTION:We are so excited to celebrate the addition of UNITS of Central Iowa to Grimes\, IA.\n\n\n\nWe will be celebrating with a Grand Opening and officially cutting the ribbon on\, Friday\, July 9th starting at 11:00 AM with the ribbon being cut at 11:15 AM.\n\n\n\nMake sure to stick around after for a catered lunch and some networking.
X-ALT-DESC;FMTTYPE=text/html:<div style="text-align: center\;"><span style="font-size:16px\;">We are so excited to celebrate the addition of UNITS of Central Iowa to Grimes\, IA.<br />\n<br />\nWe will be celebrating with a Grand Opening and officially cutting the ribbon on\, Friday\, July 9th starting at 11:00 AM with the ribbon being cut at 11:15 AM.<br />\n<br />\nMake sure to stick around after for a catered lunch and some networking.&nbsp\;</span></div>\n
LOCATION:200 SE 37th Street\, Suite 280 Grimes\, IA 50111 In the same building and down the way from Ignit
UID:e.2636.1636
SEQUENCE:3
DTSTAMP:20260420T163630Z
URL:https://business.grimesiowa.com/events/details/units-of-central-iowa-ribbon-cutting-1636
END:VEVENT

END:VCALENDAR
