BEGIN:VCALENDAR
VERSION:2.0
PRODID:-//ChamberMaster//Event Calendar 2.0//EN
METHOD:PUBLISH
X-PUBLISHED-TTL:P3D
REFRESH-INTERVAL:P3D
CALSCALE:GREGORIAN
BEGIN:VEVENT
DTSTART;VALUE=DATE:20161111
DTEND;VALUE=DATE:20161112
TRANSP:TRANSPARENT
X-MICROSOFT-CDO-ALLDAYEVENT:TRUE
SUMMARY:VETERANS DAY - Office Closed
DESCRIPTION:In honor of our Veterans the GCED office will be closed for the day.
X-ALT-DESC;FMTTYPE=text/html:In honor of our Veterans the GCED office will be closed for the day.
LOCATION:
UID:e.2636.43
SEQUENCE:3
DTSTAMP:20260425T162447Z
URL:https://business.grimesiowa.com/events/details/veterans-day-office-closed-43
END:VEVENT

END:VCALENDAR
