BEGIN:VCALENDAR
VERSION:2.0
PRODID:-//ChamberMaster//Event Calendar 2.0//EN
METHOD:PUBLISH
X-PUBLISHED-TTL:P3D
REFRESH-INTERVAL:P3D
CALSCALE:GREGORIAN
BEGIN:VEVENT
DTSTART:20200911T210000Z
DTEND:20200911T220000Z
X-MICROSOFT-CDO-ALLDAYEVENT:FALSE
SUMMARY:YP Grimes Tailgate
DESCRIPTION:Which side are you on?! Are you a Cyclone or a Hawkeye? Perhaps neither but love the fall\, football\, and just networking so come on over and join us for the YP Grimes Tailgate. Bring your favorite tailgate food to share along with the recipe if you can share it! Beverages will be provided.
X-ALT-DESC;FMTTYPE=text/html:Which side are you on?! Are you a Cyclone or a Hawkeye? Perhaps neither but love the fall\, football\, and just networking so come on over and join us for the YP Grimes Tailgate. Bring your favorite tailgate food to share along with the recipe if you can share it! Beverages will be provided.&nbsp\;
LOCATION:Grimes Chamber & Economic Development 404 SE 2nd Street Grimes\, IA 50111
UID:e.2636.1520
SEQUENCE:3
DTSTAMP:20260423T031646Z
URL:https://business.grimesiowa.com/events/details/yp-grimes-tailgate-1520
END:VEVENT

END:VCALENDAR
