BEGIN:VCALENDAR
VERSION:2.0
PRODID:-//ChamberMaster//Event Calendar 2.0//EN
METHOD:PUBLISH
X-PUBLISHED-TTL:P3D
REFRESH-INTERVAL:P3D
CALSCALE:GREGORIAN
BEGIN:VEVENT
DTSTART:20180921T131500Z
DTEND:20180921T213000Z
X-MICROSOFT-CDO-ALLDAYEVENT:FALSE
SUMMARY:YP Iowa Conference
DESCRIPTION:The Annual Conference brings together young professionals across the state of Iowa to provide opportunities in relationship building\, professional and personal development\, as well as excitement for their own future success.  Through break-out sessions\, group activities and a powerful Keynote\, attendees will learn ways to self-motivate\, to think positive and to apply what they are learning when they return to their jobs after the conference.
X-ALT-DESC;FMTTYPE=text/html:<span style="font-size:14px\;"><span style="font-family:arial\;">The Annual Conference brings together young professionals across the state of Iowa to provide opportunities in relationship building\, professional and personal development\, as well as excitement for their own future success.&nbsp\; Through break-out sessions\, group activities and a powerful Keynote\, attendees will learn ways to self-motivate\, to think positive and to apply what they are learning when they return to their jobs after the conference.</span></span>
LOCATION:Clay County Regional Events Center 800 West 18th St Spencer\, IA 51301
UID:e.2636.1310
SEQUENCE:3
DTSTAMP:20260424T091127Z
URL:https://business.grimesiowa.com/events/details/yp-iowa-conference-1310
END:VEVENT

END:VCALENDAR
