BEGIN:VCALENDAR
VERSION:2.0
PRODID:-//ChamberMaster//Event Calendar 2.0//EN
METHOD:PUBLISH
X-PUBLISHED-TTL:P3D
REFRESH-INTERVAL:P3D
CALSCALE:GREGORIAN
BEGIN:VEVENT
DTSTART;VALUE=DATE:20180118
DTEND;VALUE=DATE:20180119
TRANSP:TRANSPARENT
X-MICROSOFT-CDO-ALLDAYEVENT:TRUE
SUMMARY:YP Speaker Series- Personality Traits & Branding
DESCRIPTION:Renee Schneider from TRIO Marketing/Branding/Advertising will be speaking on the topic of Personality Traits & Branding. This is a new series focused on personal growth in the workplace.
X-ALT-DESC;FMTTYPE=text/html:Renee Schneider from TRIO Marketing/Branding/Advertising will be speaking on the topic of Personality Traits &amp\; Branding. This is a new series focused on personal growth in the workplace.&nbsp\;
LOCATION:Grimes Community Complex 410 SE Main St\, Grimes\, IA 50111 Room 402
UID:e.2636.255
SEQUENCE:3
DTSTAMP:20260424T204014Z
URL:https://business.grimesiowa.com/events/details/yp-speaker-series-personality-traits-branding-255
END:VEVENT

END:VCALENDAR
