BEGIN:VCALENDAR
VERSION:2.0
PRODID:-//ChamberMaster//Event Calendar 2.0//EN
METHOD:PUBLISH
X-PUBLISHED-TTL:P3D
REFRESH-INTERVAL:P3D
CALSCALE:GREGORIAN
BEGIN:VEVENT
DTSTART:20171221T230000Z
DTEND:20171222T000000Z
X-MICROSOFT-CDO-ALLDAYEVENT:FALSE
SUMMARY:YP Ugly Sweater Social- December 2017
DESCRIPTION:Join us for a Holiday Celebration! Wear your ugliest holiday garb and hang out with some other Young Professionals from the area.
X-ALT-DESC;FMTTYPE=text/html:Join us for a Holiday Celebration! Wear your ugliest holiday garb and hang out with some other Young Professionals from the area.&nbsp\;
LOCATION:The Corn Patch 309 W 1st St. Grimes\, IA 50111
UID:e.2636.262
SEQUENCE:3
DTSTAMP:20260424T232517Z
URL:https://business.grimesiowa.com/events/details/yp-ugly-sweater-social-december-2017-262
END:VEVENT

END:VCALENDAR
